BEGIN:VCALENDAR
VERSION:2.0
PRODID:-//Land of Promise - ECPv6.15.20//NONSGML v1.0//EN
CALSCALE:GREGORIAN
METHOD:PUBLISH
X-ORIGINAL-URL:https://landofpromiseofficial.xyz
X-WR-CALDESC:Events for Land of Promise
REFRESH-INTERVAL;VALUE=DURATION:PT1H
X-Robots-Tag:noindex
X-PUBLISHED-TTL:PT1H
BEGIN:VTIMEZONE
TZID:Asia/Singapore
BEGIN:STANDARD
TZOFFSETFROM:+0800
TZOFFSETTO:+0800
TZNAME:+08
DTSTART:20250101T000000
END:STANDARD
END:VTIMEZONE
BEGIN:VEVENT
DTSTART;TZID=Asia/Singapore:20260430T200000
DTEND;TZID=Asia/Singapore:20260430T213000
DTSTAMP:20260424T103839
CREATED:20260408T121944Z
LAST-MODIFIED:20260408T125511Z
UID:5211-1777579200-1777584600@landofpromiseofficial.xyz
SUMMARY:Parents' Webinar
DESCRIPTION:A 1-hour Free Webinar for Parents to help navigate the world of gaming with confidence and build safe spaces of faith\, fun\, and friendship for children.
URL:https://landofpromiseofficial.xyz/event/test/
ATTACH;FMTTYPE=image/png:https://landofpromiseofficial.xyz/wp-content/uploads/2026/04/For-website-2.png
END:VEVENT
BEGIN:VEVENT
DTSTART;TZID=Asia/Singapore:20260501T193000
DTEND;TZID=Asia/Singapore:20260501T213000
DTSTAMP:20260424T103839
CREATED:20260408T135248Z
LAST-MODIFIED:20260408T135341Z
UID:5254-1777663800-1777671000@landofpromiseofficial.xyz
SUMMARY:(Starting Soon) Weekly Bible Minecraft Classes
DESCRIPTION:An engaging\, paid online Bible class facilitated through Minecraft offers a fresh approach to learning and loving the Bible in a fun interactive way!
URL:https://landofpromiseofficial.xyz/event/starting-soon-weekly-bible-minecraft-classes-copy/
ATTACH;FMTTYPE=image/png:https://landofpromiseofficial.xyz/wp-content/uploads/2026/04/For-website-6.png
END:VEVENT
BEGIN:VEVENT
DTSTART;TZID=Asia/Singapore:20260529T000000
DTEND;TZID=Asia/Singapore:20260530T235959
DTSTAMP:20260424T103839
CREATED:20260408T133751Z
LAST-MODIFIED:20260408T142903Z
UID:5242-1780012800-1780185599@landofpromiseofficial.xyz
SUMMARY:Online Minecraft Camp For Kids (Ages 10+)
DESCRIPTION:A two-day\, 2.5-hour paid workshop engaging workshop focused on developing advanced Minecraft skills while exploring the Genesis story.
URL:https://landofpromiseofficial.xyz/event/online-minecraft-camp-for-kids-ages-10/
ATTACH;FMTTYPE=image/png:https://landofpromiseofficial.xyz/wp-content/uploads/2026/04/For-website-4.png
END:VEVENT
BEGIN:VEVENT
DTSTART;TZID=Asia/Singapore:20260601T160000
DTEND;TZID=Asia/Singapore:20260601T190000
DTSTAMP:20260424T103839
CREATED:20260408T134308Z
LAST-MODIFIED:20260423T185102Z
UID:5250-1780329600-1780340400@landofpromiseofficial.xyz
SUMMARY:Parent & Child Minecraft Adventure
DESCRIPTION:Child and Parent Minecraft Play\n\n\n\nA 3-hour paid interactive Minecraft adventure – work together as a family!
URL:https://landofpromiseofficial.xyz/event/parent-child-minecraft-adventure/
ATTACH;FMTTYPE=image/png:https://landofpromiseofficial.xyz/wp-content/uploads/2026/04/For-website-5.png
END:VEVENT
END:VCALENDAR